BEGIN:VCALENDAR
VERSION:2.0
PRODID:-//H.O.P.E. - ECPv6.15.16.1//NONSGML v1.0//EN
CALSCALE:GREGORIAN
METHOD:PUBLISH
X-WR-CALNAME:H.O.P.E.
X-ORIGINAL-URL:https://hopeanimalrescue.org
X-WR-CALDESC:Events for H.O.P.E.
REFRESH-INTERVAL;VALUE=DURATION:PT1H
X-Robots-Tag:noindex
X-PUBLISHED-TTL:PT1H
BEGIN:VTIMEZONE
TZID:America/New_York
BEGIN:DAYLIGHT
TZOFFSETFROM:-0500
TZOFFSETTO:-0400
TZNAME:EDT
DTSTART:20250309T070000
END:DAYLIGHT
BEGIN:STANDARD
TZOFFSETFROM:-0400
TZOFFSETTO:-0500
TZNAME:EST
DTSTART:20251102T060000
END:STANDARD
BEGIN:DAYLIGHT
TZOFFSETFROM:-0500
TZOFFSETTO:-0400
TZNAME:EDT
DTSTART:20260308T070000
END:DAYLIGHT
BEGIN:STANDARD
TZOFFSETFROM:-0400
TZOFFSETTO:-0500
TZNAME:EST
DTSTART:20261101T060000
END:STANDARD
BEGIN:DAYLIGHT
TZOFFSETFROM:-0500
TZOFFSETTO:-0400
TZNAME:EDT
DTSTART:20270314T070000
END:DAYLIGHT
BEGIN:STANDARD
TZOFFSETFROM:-0400
TZOFFSETTO:-0500
TZNAME:EST
DTSTART:20271107T060000
END:STANDARD
END:VTIMEZONE
BEGIN:VEVENT
DTSTART;VALUE=DATE:20260317
DTEND;VALUE=DATE:20260405
DTSTAMP:20260421T072555
CREATED:20260305T033008Z
LAST-MODIFIED:20260324T134818Z
UID:10488-1773705600-1775347199@hopeanimalrescue.org
SUMMARY:March Madness: Adoptables Addition
DESCRIPTION:Voting is open now!\n  \n \nFollow along with HOPE’s own March Madness tournament\, where the Pets are the Players! The starting teams are our adorable (and adoptable) cats and dogs. \nDonate to Vote to decide who will make it through each round and become the HOPE Madness Champion (and maybe find a companion for life)! \nDownload an empty bracket to fill out on your own here! HOPE March Madness.jpeg \nDONATE & VOTE HERE
URL:https://hopeanimalrescue.org/event/march-madness-adoptables-addition/
END:VEVENT
END:VCALENDAR