BEGIN:VCALENDAR
VERSION:2.0
PRODID:-//H.O.P.E. - ECPv6.15.16.1//NONSGML v1.0//EN
CALSCALE:GREGORIAN
METHOD:PUBLISH
X-WR-CALNAME:H.O.P.E.
X-ORIGINAL-URL:https://hopeanimalrescue.org
X-WR-CALDESC:Events for H.O.P.E.
REFRESH-INTERVAL;VALUE=DURATION:PT1H
X-Robots-Tag:noindex
X-PUBLISHED-TTL:PT1H
BEGIN:VTIMEZONE
TZID:America/New_York
BEGIN:DAYLIGHT
TZOFFSETFROM:-0500
TZOFFSETTO:-0400
TZNAME:EDT
DTSTART:20240310T070000
END:DAYLIGHT
BEGIN:STANDARD
TZOFFSETFROM:-0400
TZOFFSETTO:-0500
TZNAME:EST
DTSTART:20241103T060000
END:STANDARD
BEGIN:DAYLIGHT
TZOFFSETFROM:-0500
TZOFFSETTO:-0400
TZNAME:EDT
DTSTART:20250309T070000
END:DAYLIGHT
BEGIN:STANDARD
TZOFFSETFROM:-0400
TZOFFSETTO:-0500
TZNAME:EST
DTSTART:20251102T060000
END:STANDARD
BEGIN:DAYLIGHT
TZOFFSETFROM:-0500
TZOFFSETTO:-0400
TZNAME:EDT
DTSTART:20260308T070000
END:DAYLIGHT
BEGIN:STANDARD
TZOFFSETFROM:-0400
TZOFFSETTO:-0500
TZNAME:EST
DTSTART:20261101T060000
END:STANDARD
BEGIN:DAYLIGHT
TZOFFSETFROM:-0500
TZOFFSETTO:-0400
TZNAME:EDT
DTSTART:20270314T070000
END:DAYLIGHT
BEGIN:STANDARD
TZOFFSETFROM:-0400
TZOFFSETTO:-0500
TZNAME:EST
DTSTART:20271107T060000
END:STANDARD
END:VTIMEZONE
BEGIN:VEVENT
DTSTART;VALUE=DATE:20260201
DTEND;VALUE=DATE:20260301
DTSTAMP:20260421T154841
CREATED:20260122T164346Z
LAST-MODIFIED:20260122T164432Z
UID:10402-1769904000-1772323199@hopeanimalrescue.org
SUMMARY:H.O.P.E. Lives Local
DESCRIPTION:Purchase a H.O.P.E. Lives Local Punch Card for $10.\nJoin us in supporting local businesses in the month of February! Purchase a card and get hole punches when you shop at local businesses. \nYou may purchase unlimited punch cards. Cash\, Venmo\, or credit/debit accepted at H.O.P.E. LOCATIONS ONLY (other participating venues may vary) \nPunch Cards Available for Purchase at: \n\nH.O.P.E. Animal Rescue (Wilton Mall – Operating hrs: Tues\, Fri\, Sat 11a-4p)\nH.O.P.E. events/pop-up tables\nSelect participating businesses:\n\nZoom Room of Clifton Park\nThe Inn at Saratoga\nLyrical Ballad Bookstore\nChow Bella\nImpressions of Saratoga\nArtisinal Brew Works\n\n\n\nHow to Earn Punches: \n\nOne punch per receipt — present your card at checkout of participating businesses (list below)\nPunches may only be earned February 1–28\, 2026\nOnline purchases do not qualify\nEach punch must be made using HOPE’s unique official hole punch\n\nFind more information out about participation rules here.
URL:https://hopeanimalrescue.org/event/h-o-p-e-lives-local/
LOCATION:H.O.P.E. Animal Rescue\, 3065 NY-50\, Space D-1\, Box 68\, Saratoga Springs\, NY\, 12866\, United States
END:VEVENT
BEGIN:VEVENT
DTSTART;TZID=America/New_York:20260115T180000
DTEND;TZID=America/New_York:20260115T190000
DTSTAMP:20260421T154841
CREATED:20260103T223940Z
LAST-MODIFIED:20260110T180328Z
UID:10344-1768500000-1768503600@hopeanimalrescue.org
SUMMARY:Pet Enrichment Craft Event
DESCRIPTION:Decorate and fill your own unique treat jar while learning about enrichment activities that you and your pet will love! \nAdmission is $25 and includes a jar with treats\, decorating supplies\, and a bookmark with enrichment ideas. \nPurchase your ticket here.
URL:https://hopeanimalrescue.org/event/pet-enrichment-craft-event/
LOCATION:H.O.P.E. Animal Rescue\, 3065 NY-50\, Space D-1\, Box 68\, Saratoga Springs\, NY\, 12866\, United States
END:VEVENT
BEGIN:VEVENT
DTSTART;TZID=America/New_York:20251221T130000
DTEND;TZID=America/New_York:20251221T144500
DTSTAMP:20260421T154841
CREATED:20251205T201641Z
LAST-MODIFIED:20251205T201731Z
UID:10234-1766322000-1766328300@hopeanimalrescue.org
SUMMARY:Zoom Room Clifton Park Santa
DESCRIPTION:Dec. 21st from 1pm-2:45pm\nZoom Room is very having St. Nick  again this year! Even more — they are once again donate all proceeds to Homes for Orphaned Pets Exist (H.O.P.E.) from the event! \nEntrance is FREE and 100% of any cash donation will go to a great local rescue shelter. Current clients can use the app to register and any new client can simply call or text (518) 290-7809!
URL:https://hopeanimalrescue.org/event/zoom-room-clifton-park-santa/
LOCATION:Zoom Room Clifton Park\, 1603 US-9\, Clifton Park\, NY\, 12065\, United States
END:VEVENT
BEGIN:VEVENT
DTSTART;TZID=America/New_York:20251220T120000
DTEND;TZID=America/New_York:20251220T160000
DTSTAMP:20260421T154841
CREATED:20251205T201302Z
LAST-MODIFIED:20251205T201302Z
UID:10231-1766232000-1766246400@hopeanimalrescue.org
SUMMARY:Holiday Photoshoot: Lights and Lens
DESCRIPTION:Need professional photos of your pets this holiday season?!\nHOPE is partnering up with Light & Lens Studios this Holiday season\, but we only have a few spots left!\nDon’t wait\, book now! December 20th 12-4pm $10\n50% of all proceeds come back to save lives
URL:https://hopeanimalrescue.org/event/holiday-photoshoot-lights-and-lens/
LOCATION:Lights and Lens\, 130 Broad Street\, Suite 5\, Glens Falls\, NY\, 12801\, United States
END:VEVENT
BEGIN:VEVENT
DTSTART;VALUE=DATE:20251201
DTEND;VALUE=DATE:20260101
DTSTAMP:20260421T154841
CREATED:20251205T195527Z
LAST-MODIFIED:20251205T200506Z
UID:10218-1764547200-1767225599@hopeanimalrescue.org
SUMMARY:2026 Pet Calendar Pick-up
DESCRIPTION:If you pre-ordered a calendar\, drop by anytime during our operating hours Tues\, Fri\, and Sat 11am-4pm to pick up your calendar!\nDelivery available to purchasers within 30 miles of Saratoga — Please contact us for more info.\nDidn’t order a calendar? Don’t worry — Calendars are still available for purchase at the shelter! We have a QR code there or we also accept cash. Each calendar is $25 each
URL:https://hopeanimalrescue.org/event/2026-pet-calendar-pick-up/
LOCATION:H.O.P.E. Animal Rescue\, 3065 NY-50\, Space D-1\, Box 68\, Saratoga Springs\, NY\, 12866\, United States
END:VEVENT
BEGIN:VEVENT
DTSTART;VALUE=DATE:20251130
DTEND;VALUE=DATE:20260101
DTSTAMP:20260421T154841
CREATED:20251205T200317Z
LAST-MODIFIED:20251205T200325Z
UID:10223-1764460800-1767225599@hopeanimalrescue.org
SUMMARY:Trail of Lights
DESCRIPTION:Winter magic at its finest.  A great winter activity for the whole family! Trail of Lights is a short trail behind Artisanal Brew Works with 50 trees decorated by local charities\, including HOPE.\nAdmission is free\, but this 𝙞𝙨 a fundraiser. If you can\, please donate to one of the 50 charities — or make a single donation that they willll divide evenly among them.\n Artisanal Brew Works\, 617 Maple Ave\, Saratoga Springs\n www.abw.beer\n 518-306-4344\n 𝗧𝗿𝗮𝗶𝗹 𝗼𝗳 𝗟𝗶𝗴𝗵𝘁𝘀 𝗜𝗻𝗳𝗼 𝙃𝙤𝙪𝙧𝙨 (Starting 11/30\, through 12/31):\nMon: Closed Tues & Weds: 3 PM – 9 PM Thurs & Fri: 12 PM – 9 PMSat: 11 AM – 9 PM Sun: 11 AM – 7 PM\n 𝙁𝙖𝙢𝙞𝙡𝙮 & 𝙙𝙤𝙜 𝙛𝙧𝙞𝙚𝙣𝙙𝙡𝙮 (Dogs allowed outside on the terrace and on the trail\, but not inside the taproom.)\n 𝙉𝙤 𝙖𝙙𝙢𝙞𝙨𝙨𝙞𝙤𝙣 𝙛𝙚𝙚 Thry encourage a donation to a charity\, and maybe supporting ABW with a drink or bite to eat\n 𝙏𝙧𝙖𝙞𝙡 𝙡𝙚𝙣𝙜𝙩𝙝 A relatively flat\, short hike – about a 10 minute walk. Sturdy hiking/winter boots recommeded.\n 𝙁𝙧𝙚𝙚 𝙥𝙖𝙧𝙠𝙞𝙣𝙜 They have several parking spots\, plus an overflow lot.
URL:https://hopeanimalrescue.org/event/trail-of-light/
LOCATION:Artisinal Brew Works\, 617 Maple Ave\, Saratoga Springs\, NY\, 12866\, United States
END:VEVENT
BEGIN:VEVENT
DTSTART;TZID=America/New_York:20251113T183000
DTEND;TZID=America/New_York:20251113T200000
DTSTAMP:20260421T154841
CREATED:20251024T180438Z
LAST-MODIFIED:20251024T180438Z
UID:10201-1763058600-1763064000@hopeanimalrescue.org
SUMMARY:Paint & Pet Evening
DESCRIPTION:Paint\, Pet\, & Enjoy!\nJion us for a Paint & Pet at our center in the Wilton Mall! \nEvent highlights: \n\nStep-by-step painting guided by a local artist\nAll art supplies included\nHang out with our cats!\nComplimentary cofee\, water & baked goods\nTake home your own masterpiece!\n\nIndividual tickets are $25 and are limited — buy yours now! \nBUY YOUR TICKET HERE
URL:https://hopeanimalrescue.org/event/paint-pet-evening/
LOCATION:H.O.P.E. Animal Rescue\, 3065 NY-50\, Space D-1\, Box 68\, Saratoga Springs\, NY\, 12866\, United States
END:VEVENT
END:VCALENDAR