BEGIN:VCALENDAR
VERSION:2.0
PRODID:-//H.O.P.E. - ECPv6.15.16.1//NONSGML v1.0//EN
CALSCALE:GREGORIAN
METHOD:PUBLISH
X-WR-CALNAME:H.O.P.E.
X-ORIGINAL-URL:https://hopeanimalrescue.org
X-WR-CALDESC:Events for H.O.P.E.
REFRESH-INTERVAL;VALUE=DURATION:PT1H
X-Robots-Tag:noindex
X-PUBLISHED-TTL:PT1H
BEGIN:VTIMEZONE
TZID:America/New_York
BEGIN:DAYLIGHT
TZOFFSETFROM:-0500
TZOFFSETTO:-0400
TZNAME:EDT
DTSTART:20250309T070000
END:DAYLIGHT
BEGIN:STANDARD
TZOFFSETFROM:-0400
TZOFFSETTO:-0500
TZNAME:EST
DTSTART:20251102T060000
END:STANDARD
BEGIN:DAYLIGHT
TZOFFSETFROM:-0500
TZOFFSETTO:-0400
TZNAME:EDT
DTSTART:20260308T070000
END:DAYLIGHT
BEGIN:STANDARD
TZOFFSETFROM:-0400
TZOFFSETTO:-0500
TZNAME:EST
DTSTART:20261101T060000
END:STANDARD
BEGIN:DAYLIGHT
TZOFFSETFROM:-0500
TZOFFSETTO:-0400
TZNAME:EDT
DTSTART:20270314T070000
END:DAYLIGHT
BEGIN:STANDARD
TZOFFSETFROM:-0400
TZOFFSETTO:-0500
TZNAME:EST
DTSTART:20271107T060000
END:STANDARD
END:VTIMEZONE
BEGIN:VEVENT
DTSTART;VALUE=DATE:20260401
DTEND;VALUE=DATE:20260501
DTSTAMP:20260421T130717
CREATED:20260402T144518Z
LAST-MODIFIED:20260408T141328Z
UID:10563-1775001600-1777593599@hopeanimalrescue.org
SUMMARY:T-shirt Design Contest!
DESCRIPTION:Are you a local artist? Would you like to help out a local rescue?\n\n\n\nWe are seeking designs for 3 different T-Shirts to help us raise funds for the animals!\n\n\n\nWe are looking for a Dog Design\, a Cat Design\, and a combined Dog/Cat Design. You can submit designs for any/all that you want! All skill levels welcomed!\n\n\n\nDesigns must include a few things:\n\n\n\n1. Design must have H.O.P.E. included in it.\n2. Original artwork only (No AI)\n3. You must include YOUR signature! We want to recognize YOU as the artist!\n4. Limit of 5 colors or fewer\n5. Max size: 12” x 12” (or smaller)\n6. Submit as PNG\, JPEG\, or PDF with a transparent background\n\n\nWe will take our top 3 picks of each and post them online for our community to pick the winners!\n\n\n\nPerks of winning:\n\n Your art featured on our 2026 shirts (possible hoodies too)\n Free shirt with your design\n Major bragging rights + a big shoutout\n\n\n\n Deadline: April 30th\, 2026\n\nEmail to: hope.fundraising.committee@gmail.com\nSubject: Shirt Design Submission\n\n\n Public voting: May 3rd – 17th\n Winner announced: May 19th
URL:https://hopeanimalrescue.org/event/t-shirt-design-contest/
LOCATION:NY
END:VEVENT
BEGIN:VEVENT
DTSTART;TZID=America/New_York:20260423T183000
DTEND;TZID=America/New_York:20260423T193000
DTSTAMP:20260421T130717
CREATED:20260402T143947Z
LAST-MODIFIED:20260419T001344Z
UID:10558-1776969000-1776972600@hopeanimalrescue.org
SUMMARY:Yoga with Kitties
DESCRIPTION:Join us for a relaxing evening of a beginner level yoga class surrounded by some of our adorable shelter cats! \nThursday\, April 23rd from 6:30-7:30pm \nLocated at HOPE’s Pet Adoption Center in the Wilton Mall \nTickets are SOLD OUT \nOther details: \n\nTaught by a local yoga instructor\nAny age can participate!\nBring your own yoga mat\, extras are available if needed
URL:https://hopeanimalrescue.org/event/yoga-with-kitties/
LOCATION:H.O.P.E. Animal Rescue\, 3065 NY-50\, Space D-1\, Box 68\, Saratoga Springs\, NY\, 12866\, United States
END:VEVENT
END:VCALENDAR